BEGIN:VCALENDAR
VERSION:2.0
PRODID:-//Rambin. Rügens milder Westen. - ECPv6.15.20//NONSGML v1.0//EN
CALSCALE:GREGORIAN
METHOD:PUBLISH
X-ORIGINAL-URL:https://www.rambin.de
X-WR-CALDESC:Veranstaltungen für Rambin. Rügens milder Westen.
REFRESH-INTERVAL;VALUE=DURATION:PT1H
X-Robots-Tag:noindex
X-PUBLISHED-TTL:PT1H
BEGIN:VTIMEZONE
TZID:Europe/Berlin
BEGIN:DAYLIGHT
TZOFFSETFROM:+0100
TZOFFSETTO:+0200
TZNAME:CEST
DTSTART:20250330T010000
END:DAYLIGHT
BEGIN:STANDARD
TZOFFSETFROM:+0200
TZOFFSETTO:+0100
TZNAME:CET
DTSTART:20251026T010000
END:STANDARD
BEGIN:DAYLIGHT
TZOFFSETFROM:+0100
TZOFFSETTO:+0200
TZNAME:CEST
DTSTART:20260329T010000
END:DAYLIGHT
BEGIN:STANDARD
TZOFFSETFROM:+0200
TZOFFSETTO:+0100
TZNAME:CET
DTSTART:20261025T010000
END:STANDARD
BEGIN:DAYLIGHT
TZOFFSETFROM:+0100
TZOFFSETTO:+0200
TZNAME:CEST
DTSTART:20270328T010000
END:DAYLIGHT
BEGIN:STANDARD
TZOFFSETFROM:+0200
TZOFFSETTO:+0100
TZNAME:CET
DTSTART:20271031T010000
END:STANDARD
END:VTIMEZONE
BEGIN:VEVENT
DTSTART;TZID=Europe/Berlin:20260427T180000
DTEND;TZID=Europe/Berlin:20260427T180000
DTSTAMP:20260425T151709
CREATED:20230216T104805Z
LAST-MODIFIED:20260328T165541Z
UID:4941-1777312800-1777312800@www.rambin.de
SUMMARY:Sport
DESCRIPTION:
URL:https://www.rambin.de/event/sport-10/
LOCATION:Vereinsgebäude SV Rambin 61 e.V\, Am Sportplatz 1\, Rambin\, 18573
END:VEVENT
BEGIN:VEVENT
DTSTART;TZID=Europe/Berlin:20260428T160000
DTEND;TZID=Europe/Berlin:20260428T173000
DTSTAMP:20260425T151709
CREATED:20240923T104256Z
LAST-MODIFIED:20260328T165916Z
UID:6002-1777392000-1777397400@www.rambin.de
SUMMARY:Kindertreff der Kirchengemeinde Rambin
DESCRIPTION:Kindertreff für Kinder der 1. – 6. Klasse mit Spiel\, Spaß & Bibelgeschichten \nJeden  Dienstag während der Schulzeit \nKosten: keine
URL:https://www.rambin.de/event/kindertreff-der-kirchengemeinde-rambin-9/
LOCATION:Altes Pfarrhaus\, Hauptstr. 16\, Rambin\, 18573\, Deutschland
END:VEVENT
BEGIN:VEVENT
DTSTART;TZID=Europe/Berlin:20260502T110000
DTEND;TZID=Europe/Berlin:20260502T130000
DTSTAMP:20260425T151709
CREATED:20230217T114543Z
LAST-MODIFIED:20260415T102516Z
UID:4965-1777719600-1777726800@www.rambin.de
SUMMARY:Gartentag: Pflanzentauschbörse
DESCRIPTION:Besucht uns am kommenden Gartentag! \nPflanzentauschbörse für Rambin und Umgebung \nOrt: An der Kapelle \nWir freuen uns auf Euch! \nDer Förderverein Denkmal Kloster Rambin e.V\,
URL:https://www.rambin.de/event/pflanzentauschboerse/
LOCATION:Kloster St. Jürgen\, Kloster St. Jürgen\, Rambin\, 18573
END:VEVENT
BEGIN:VEVENT
DTSTART;TZID=Europe/Berlin:20260523T080000
DTEND;TZID=Europe/Berlin:20260525T170000
DTSTAMP:20260425T151709
CREATED:20260413T100212Z
LAST-MODIFIED:20260413T100225Z
UID:6456-1779523200-1779728400@www.rambin.de
SUMMARY:KunstOffen - Ausstellung von KeBe in der Kloster-Kapelle in Rambin auf Rügen
DESCRIPTION:Acrylmalerei inspiriert von den Landschaften der drei Inseln Fuerteventura-Rügen-Hiddensee ( www.drei-inselwelten.de )\nromantisch in Szene gesetzt in der alten Künstlerwohnung unter dem Dach der aus dem 13. Jahrhundert stammenden Klosterkapelle
URL:https://www.rambin.de/event/kunstoffen-ausstellung-von-kebe-in-der-kloster-kapelle-in-rambin-auf-ruegen/
LOCATION:Kloster St. Jürgen\, Kloster St. Jürgen\, Rambin\, 18573
END:VEVENT
BEGIN:VEVENT
DTSTART;TZID=Europe/Berlin:20260529T170000
DTEND;TZID=Europe/Berlin:20260529T170000
DTSTAMP:20260425T151709
CREATED:20260413T100508Z
LAST-MODIFIED:20260413T100516Z
UID:6458-1780074000-1780074000@www.rambin.de
SUMMARY:2. Gespräch am Backofen 2026 - Gesundheitsversorgung im ländlichen Raum
DESCRIPTION:Diese Gesprächsrunde befindet sich in der Planung. \nNeuigkeiten demnächst hier.
URL:https://www.rambin.de/event/2-gespraech-am-backofen-2026-gesundheitsversorgung-im-laendlichen-raum/
LOCATION:Kulturscheune des Rambiner Heimatmuseums\, Bahnhofstr. 10\, Rambin
END:VEVENT
BEGIN:VEVENT
DTSTART;TZID=Europe/Berlin:20260703T170000
DTEND;TZID=Europe/Berlin:20260703T170000
DTSTAMP:20260425T151709
CREATED:20260413T100809Z
LAST-MODIFIED:20260413T100818Z
UID:6460-1783098000-1783098000@www.rambin.de
SUMMARY:Gespräch und Buchlesung mit Berit Kunschke: Historisches aus Rambin und ihr Buch: "Wer schreiben kann\, schreibt Liebesbriefe"
DESCRIPTION:Unterhaltsames aus längst vergangenen Zeiten des Dorfes Rambin auf der Insel Rügen. Die Autorin Berit Kunschke erzählt über ihre Recherche aus vergangenen Zeiten und liest aus ihrem Buch\, dessen Ursprung ein zufälliger Fund von Liebesbriefen auf ihrem alten Dachboden war.  Die Vorfahren waren offensichtlich Zeitzeugen dieser Geschichte und es verspricht somit eine interessante und unterhaltsame Rückblende in die Zeit auf Rügen vor 100 Jahren zu werden.
URL:https://www.rambin.de/event/gespraech-und-buchlesung-mit-berit-kunschke-historisches-aus-rambin-und-ihr-buch-wer-schreiben-kann-schreibt-liebesbriefe/
LOCATION:Kulturscheune des Rambiner Heimatmuseums\, Bahnhofstr. 10\, Rambin
END:VEVENT
BEGIN:VEVENT
DTSTART;TZID=Europe/Berlin:20260731T170000
DTEND;TZID=Europe/Berlin:20260731T170000
DTSTAMP:20260425T151709
CREATED:20260413T101114Z
LAST-MODIFIED:20260413T101119Z
UID:6462-1785517200-1785517200@www.rambin.de
SUMMARY:4. Gespräch am Backofen 2026 - Im Dialog mit Heiko Miraß\, Parlamentarischer Staatssekretär für Vorpommern und das östliche Mecklenburg
DESCRIPTION:Unter dem Motto „Raum für Dialog“\, gibt es interessante historische Informationen zum Heimatforscher der Insel Rügen: Johann Jacop Grümbke. Darüber hinaus besteht aber auch die Möglichkeit\, Fragen zum aktuellen Geschehen der heutigen Zeit zu erörtern.
URL:https://www.rambin.de/event/4-gespraech-am-backofen-2026-im-dialog-mit-heiko-mirass-parlamentarischer-staatssekretaer-fuer-vorpommern-und-das-oestliche-mecklenburg/
LOCATION:Kulturscheune des Rambiner Heimatmuseums\, Bahnhofstr. 10\, Rambin
END:VEVENT
BEGIN:VEVENT
DTSTART;TZID=Europe/Berlin:20260828T170000
DTEND;TZID=Europe/Berlin:20260828T170000
DTSTAMP:20260425T151709
CREATED:20260413T101407Z
LAST-MODIFIED:20260413T101429Z
UID:6464-1787936400-1787936400@www.rambin.de
SUMMARY:5. Gespräch am Backofen 2026  - "Von der Schweiz nach Rügen"\, Was macht unsere Region so interessant?
DESCRIPTION:Martin Seiler ist mit seiner Frau vor einigen Jahren von der Schweiz nach Rambin gezogen. Er ist nun auch Vorsitzender vom hiesigen Angelverein. Wie ist ihm der Ort mit seinem Menschen begegnet? Wie sind die Zukunftsperspektiven des Angelvereins am idyllischen „Fuchsberg“ am Kubitzer Bodden? Vorgestellt wird an diesem Tag auch der neue Film von Frank Levermann über den Angelverein – mit vielen idyllischen Eindrücken vom Hafen in Rambin.
URL:https://www.rambin.de/event/5-gespraech-am-backofen-2026-von-der-schweiz-nach-ruegen-was-macht-unsere-region-so-interessant/
LOCATION:Kulturscheune des Rambiner Heimatmuseums\, Bahnhofstr. 10\, Rambin
END:VEVENT
BEGIN:VEVENT
DTSTART;VALUE=DATE:20260912
DTEND;VALUE=DATE:20260913
DTSTAMP:20260425T151709
CREATED:20260413T101741Z
LAST-MODIFIED:20260413T101746Z
UID:6466-1789171200-1789257599@www.rambin.de
SUMMARY:Erntedankfest auf dem Museumsgelände in Rambin auf Rügen / begleitende Ausstellung: "Drei Inselwelten" von KeBe
DESCRIPTION:Acrylmalerei inspiriert von den Landschaften der drei Inseln Fuerteventura-Rügen-Hiddensee / www.drei-inselwelten.de
URL:https://www.rambin.de/event/erntedankfest-auf-dem-museumsgelaende-in-rambin-auf-ruegen-begleitende-ausstellung-drei-inselwelten-von-kebe/
LOCATION:Kulturscheune des Rambiner Heimatmuseums\, Bahnhofstr. 10\, Rambin
END:VEVENT
BEGIN:VEVENT
DTSTART;TZID=Europe/Berlin:20260925T170000
DTEND;TZID=Europe/Berlin:20260925T170000
DTSTAMP:20260425T151709
CREATED:20260413T102742Z
LAST-MODIFIED:20260413T102802Z
UID:6468-1790355600-1790355600@www.rambin.de
SUMMARY:6. Gespräch am Backofen 2026 - Im Dialog mit der integrativen Ernährungsberaterin Daniela Angermann
DESCRIPTION:Hier geht es rund um die gesunde Ernährung. In einem offenen Austausch wollen wir Lösungen für dieses wichtige Thema aufzeigen. Die „Integrative Ernährung“ ist ein ganzheitliches Konzept zur Prävention und Ernährungstherapie. Daniela Angermann wird hierbei aktuelle Erkenntnisse aus ihrer kürzlich erfolgten Ausbildung zur Ernährungsberaterin einbringen.
URL:https://www.rambin.de/event/6-gespraech-am-backofen-2026-im-dialog-mit-der-integrativen-ernaehrungsberaterin-daniela-angermann/
LOCATION:Kulturscheune des Rambiner Heimatmuseums\, Bahnhofstr. 10\, Rambin
END:VEVENT
END:VCALENDAR